BEGIN:VCALENDAR
VERSION:2.0
PRODID:-//Bay Shore Athletic Sponsors - ECPv6.15.12.2//NONSGML v1.0//EN
CALSCALE:GREGORIAN
METHOD:PUBLISH
X-WR-CALNAME:Bay Shore Athletic Sponsors
X-ORIGINAL-URL:https://www.bayshoreathletics.com
X-WR-CALDESC:Events for Bay Shore Athletic Sponsors
REFRESH-INTERVAL;VALUE=DURATION:PT1H
X-Robots-Tag:noindex
X-PUBLISHED-TTL:PT1H
BEGIN:VTIMEZONE
TZID:UTC
BEGIN:STANDARD
TZOFFSETFROM:+0000
TZOFFSETTO:+0000
TZNAME:UTC
DTSTART:20240101T000000
END:STANDARD
END:VTIMEZONE
BEGIN:VEVENT
DTSTART;TZID=UTC:20251210T190000
DTEND;TZID=UTC:20251210T193000
DTSTAMP:20260421T095720
CREATED:20251210T135637Z
LAST-MODIFIED:20251210T135638Z
UID:1386-1765393200-1765395000@www.bayshoreathletics.com
SUMMARY:Bay Shore Athletic Sponsors Meeting
DESCRIPTION:7:00 PMBay Shore High School Teacher’s Cafe
URL:https://www.bayshoreathletics.com/event/bay-shore-athletic-sponsors-meeting/
LOCATION:Bay Shore High School\, 155 Third Ave\, Bay Shore\, New York\, 11706\, United States
END:VEVENT
END:VCALENDAR